Workbook

Sheet Anamnesi
A6: Istituto di Scienze Odontostomatologiche & Dipartimento di Psicologia
A8: Valutazione Caratteristiche Personali nel Disturbo dell'Articolazione Temporo-Mandibolare
A10: Istuzioni generali: La presente Batteria di Questionari Elettronica è formata da 4 pagine. In questo momento lei si trova sulla prima pagina "Anamnesi", può passare da una pagina all'altra cliccando con il tasto sinistro del mouse sulla barra in fondo allo schermo (dove sono indicate "Anamnesi" "TAS-20" ecc.). Dovrà inserire i propri dati nelle aree con sfondo giallo di tutte e 4 le pagine. Il file una volta completato va rinominato e salvato con il proprio Nome e Cognome. Buona Compilazione.
K11: Scorrere con la rotellina del mouse o con le frecce del tastierino numerico per giungere alla fine della pagina
A12: Anamnesi
B14: Nome e Cognome
B15: Data di Oggi | G15: Inserire nel formato (gg/mm/aa) - (La "/" si ottiene tenendo premuto schift -la freccia rivolta verso l'alto- e il tasto "7")
C16: Età
C17: Genere Sessuale | G17: Inserire "m" per uomo o "f" per donna
C18: Altezza | G18: In cm
B19: Peso Corporeo | G19: In kg
B20: Stato Civile | G20: Inserire uno dei seguenti numeri: 0= libero; 1=coniugato/convivente; 2=separato/divorziato; 3=vedovo
C21: Titolo di Studio | G21: Inserire uno dei seguenti numeri: 1=licenza elementare; 2=licenza media; 3=diploma di maturità; 4=laurea; 5=specializzazione/dottorato
C23: Attività Fisica/Sportiva | G23: Inserire "si" o "no"
C24: Se si, quale attività
C25: Se si, per quanto tempo | G25: Indicare "in minuti" quanto solitamente svolge la/le attività fisica/che durante la settimana (es. 2 ore a settimana, riportare "120")
C27: Fumo | G27: Inserire "si" o "no"
C28: Se si, quanto | G28: Indicare mediamente il numero di sigarette al giorno
C30: Alcolici | G30: Inserire "si" o "no" (indicare "si" se si assume alcol settimanalmente)
C31: Se si, cosa
C32: Se si, quanti bicchieri | G32: Indicare mediamente il numero di bicchieri a settimana
B34: Eventuali note da comunicare all'equipe:
A37: Controlli di aver risposto a tutte le aree
A38: Può proseguire alla pagina successiva "TAS-20"

Sheet TAS-20
A1: TAS-20
A2: TORONTO ALEXITHYMIA SCALE
A4: Seguendo le istruzioni sottoelencate indichi quanto è d’accordo o no con ciascuna delle seguenti affermazioni digitando un numero da 1 a 5.
D5: 1 = NON SONO PER NIENTE D’ACCORDO
D6: 2 = NON SONO MOLTO D’ACCORDO
D7: 3 = NON SONO NE’ D’ACCORDO NE’ IN DISACCORDO
D8: 4 = SONO D’ACCORDO IN PARTE
D9: 5 = SONO COMPLETAMENTE D’ACCORDO
A11: 1 | B11: Sono spesso confuso/a circa le emozioni che provo | L11: Questo questionario ha 20 affermazioni
A12: 2 | B12: Mi è difficile trovare le parole giuste per esprimere i miei sentimenti | L12: Scorrere con la rotellina del mouse o con le frecce del tastierino numerico per giungere alla fine della pagina
A13: 3 | B13: Provo delle sensazioni fisiche che neanche i medici capiscono
A14: 4 | B14: Riesco facilmente a descrivere i miei sentimenti
A15: 5 | B15: Preferisco approfondire i problemi piuttosto che descriverli semplicemente
A16: 6 | B16: Quando sono sconvolto/a non so se sono triste, spaventato/a o arrabiato/a
A17: 7 | B17: Sono spesso disorientato dalle sensazioni che provo nel mio corpo
A18: 8 | B18: Preferisco lasciare che le cose seguano il loro corso piuttosto che capire perché sono andate in quel modo
A19: 9 | B19: Provo sentimenti che non riesco proprio ad identificare
A20: 10 | B20: E’ essenziale conoscere le proprie emozioni
A21: 11 | B21: Mi è difficile descrivere ciò che provo per gli altri
A22: 12 | B22: Gli altri mi chiedono di parlare di più dei miei sentimenti
A23: 13 | B23: Non capisco cosa stia accadendo dentro di me
A24: 14 | B24: Spesso non so perché mi arrabbio
... A30: 20 | B30: Cercare significati nascosti in films o commedie distoglie dal piacere dello spettacolo
A32: Controlli di aver risposto a tutte le affermazioni
A33: Può proseguire alla pagina successiva "SCL-90-R"

Sheet SCL-90-R
A1: SCL-90-R
A2: SIMPTOM CHECKLIST - REVISED
A4: Nella lista che segue sono elencati problemi e disturbi che le persone spesso hanno. La legga attentamente e cerchi di ricordare quanto ne ha sofferto nella scorsa settimana. Seguendo le istruzioni sottoelencate indichi quanto ne ha sofferto digitando un numero da 0 a 4.
D5: 0 = PER NIENTE
D6: 1 = POCO
D7: 2 = MODERATAMENTE
D8: 3 = MOLTO
D9: 4 = MOLTISSIMO
A11: 1 | B11: Mal di testa | L11: Questo questionario ha 90 affermazioni
A12: 2 | B12: Nervosismo o agitazione interna | L12: Scorrere con la rotellina del mouse o con le frecce del tastierino numerico per giungere alla fine della pagina
A13: 3 | B13: Incapacità a scacciare pensieri o parole indesiderate
A14: 4 | B14: Svenimenti o di vertigini
A15: 5 | B15: Perdita dell’interesse o di desiderio sessuale
A16: 6 | B16: Tendenza a criticare gli altri
A17: 7 | B17: Qualcuno controlla il suo pensiero
A18: 8 | B18: Convinzione che gli altri siano responsabili dei tuoi disturbi
A19: 9 | B19: Difficoltà a ricordare le cose
A20: 10 | B20: Preoccupato di essere trascurato nel fare le cose
A21: 11 | B21: Arrabbiarsi o irritarsi facilmente
A22: 12 | B22: Dolori al cuore o al petto
A23: 13 | B23: Avere paura in spazi aperti o per strada
A24: 14 | B24: Sentirsi debole o fiacco
... A100: 90 | B100: Sensazione che qualcosa non va nella tua testa
A102: Controlli di aver risposto a tutte le affermazioni
A103: Può proseguire alla pagina successiva "Salute"

Sheet Salute
A1: Salute
G3: In generale definirebbe il suo stato di salute: | I3: Inserire uno dei seguenti numeri: 1 = Eccellente; 2=Molto buono; 3=Buono; 4=Discreto; 5=Cagionevole
G4: In generale definirebbe la sua salute orale: | I4: Inserire uno dei seguenti numeri: 1 = Eccellente; 2=Molto buona; 3=Buona; 4=Discreta; 5=Cagionevole
G6: Come giudica il modo in cui si prende cura della sua salute generale? | I6: Inserire uno dei seguenti numeri: 1 = Eccellente; 2=Molto buono; 3=Buono; 4=Discreto; 5=Insufficiente
G7: Come giudica il modo in cui si prende cura della sua salute orale? | I7: Inserire uno dei seguenti numeri: 1 = Eccellente; 2=Molto buono; 3=Buono; 4=Discreto; 5=Insufficiente
A9: Dolore | N9: Scorrere con la rotellina del mouse o con le frecce del tastierino numerico per giungere alla fine della pagina
A11: Nell'ultimo mese, ha avuto dolori al viso, alla mandibola alle tempie, davanti o all'interno dell'orecchio?
I13: Inserire uno dei seguenti numeri: 0=No; 1=Si
A15: Se non ha avuto dolore nell'ultimo mese, si prega di ingnorare le domande successive e proseguire direttamente nell'area "Parafunzioni" in fondo alla pagina
G17: Quanto tempo fa il dolore facciale è insorto per la prima volta? | I17: Indicare il tempo in mesi (es. 5 anni, indicare "60")
G19: Il suo dolore facciale è persistente, ricorrente, o si è manifestato solo una volta? | I19: Inserire uno dei seguenti numeri: 1=Persistente; 2=Ricorrente; 3=Una volta
A21: Si è mai rivolto/a ad un medico, un dentista, un chiropratico o ad altri professionisti per sofferenza o dolore facciale?
I23: Inserire uno dei seguenti numeri: 1=No; 2=Si, negli ultimi 6 mesi; 3=Si, più di 6 mesi fa
A25: In questo momento come giudicherebbe il suo dolore facciale valutato su una scala da 0 a 10, dove 0 corrisponde ad "assenza di dolore" e 10 al "peggiore dolore che possa esistere"?
A29: Negli ultimi 6 mesi, quanto intenso è stato il suo peggior dolore valutato su una scala da 0 a 10, dove 0 corrisponde ad "assenza di dolore" e 10 al "peggior dolore che possa esistere"?
A33: Parafunzioni
G35: Durante il giorno, digrigna o serra i denti? | I35: Inserire uno dei seguenti numeri: 0=No; 1=Si
G36: La mattina, al risveglio, riscontra indolenzimento o rigidità della mandibola? | I36: Inserire uno dei seguenti numeri: 0=No; 1=Si
A38: Indebolimento della Funzione Mandibolare
A39: Le seguenti affermazioni riguardano le attività e le funzioni della mandibola. Indicare quanta difficoltà incontra nell'effettuare ogni funzione a causa del suo problema digitando un numero da 1 a 5.
D40: 1 = NESSUNA
D41: 2 = POCA
D42: 3 = POSSIBILE
D43: 4 = MOLTA
D44: 5 = IMPOSSIBILE
G46: Attività sociali
G47: Parlare
G48: Dare un grande morso
G49: Attività lavorative
G50: Bere
G51: Ridere
G52: Sbadigliare
G53: Baciare
A55: Controlli di aver risposto a tutte le affermazioni
A56: Ha terminato, il file va rinominato e salvato con il proprio nome

Sheet Dati
A1: Part. | B1: Data | C1: Eta | D1: Sex | E1: Altezza | F1: Peso | G1: BMI | H1: StaCivi | I1: TiStudio | J1: AttFisi | K1: QAttFisi | L1: TAttFisi | M1: Fumo | N1: NumeFumo | O1: Alcolici | P1: QAlcoli | Q1: BicAlco | R1: Note | T1: TAS1 | U1: TAS2 | V1: TAS3 | W1: TAS4 | X1: TAS5 | Y1: TAS6 | Z1: TAS7 | AA1: TAS8 | AB1: TAS9 | AC1: TAS10 | AD1: TAS11 | AE1: TAS12 | AF1: TAS13 | AG1: TAS14 | AH1: TAS15 | AI1: TAS16 | AJ1: TAS17 | AK1: TAS18 | AL1: TAS19 | AM1: TAS20 | AO1: TASF1 | AP1: TASF1MAN | AQ1: TASF1RI | AR1: TASF2 | AS1: TASF2MAN | AT1: TASF2RI | AU1: TASF3 | AV1: TASF3MAN | AW1: TASF3RI | AX1: TASTOT | AZ1: SCL1 | BA1: SCL2 | BB1: SCL3 | BC1: SCL4 | BD1: SCL5 | BE1: SCL6 | BF1: SCL7 | BG1: SCL8 | BH1: SCL9 | BI1: SCL10 | BJ1: SCL11 | BK1: SCL12 | BL1: SCL13 | BM1: SCL14 | BN1: SCL15 | BO1: SCL16 | BP1: SCL17 | BQ1: SCL18 | BR1: SCL19 | BS1: SCL20 | BT1: SCL21 | BU1: SCL22 | BV1: SCL23 | BW1: SCL24 | BX1: SCL25 | BY1: SCL26 | BZ1: SCL27 | CA1: SCL28 | CB1: SCL29 | CC1: SCL30 | CD1: SCL31 | CE1: SCL32 | CF1: SCL33 | CG1: SCL34 | CH1: SCL35 | CI1: SCL36 | CJ1: SCL37 | CK1: SCL38 | CL1: SCL39 | CM1: SCL40 | CN1: SCL41 | CO1: SCL42 | CP1: SCL43 | CQ1: SCL44 | CR1: SCL45 | CS1: SCL46 | CT1: SCL47 | CU1: SCL48 | CV1: SCL49 | CW1: SCL50 | CX1: SCL51 | CY1: SCL52 | CZ1: SCL53 | DA1: SCL54 | DB1: SCL55 | DC1: SCL56 | DD1: SCL57 | DE1: SCL58 | DF1: SCL59 | DG1: SCL60 | DH1: SCL61 | DI1: SCL62 | DJ1: SCL63 | DK1: SCL64 | DL1: SCL65 | DM1: SCL66 | DN1: SCL67 | DO1: SCL68 | DP1: SCL69 | DQ1: SCL70 | DR1: SCL71 | DS1: SCL72 | DT1: SCL73 | DU1: SCL74 | DV1: SCL75 | DW1: SCL76 | DX1: SCL77 | DY1: SCL78 | DZ1: SCL79 | EA1: SCL80 | EB1: SCL81 | EC1: SCL82 | ED1: SCL83 | EE1: SCL84 | EF1: SCL85 | EG1: SCL86 | EH1: SCL87 | EI1: SCL88 | EJ1: SCL89 | EK1: SCL90 | EM1: SCLSOM | EN1: SOMMAN | EO1: SCLSOMRI | EP1: SCLSOMPR | EQ1: SCLOC | ER1: OCMAN | ES1: SCLOCRI | ET1: SCLOCPR | EU1: SCLSEN | EV1: SENMAN | EW1: SCLSENRI | EX1: SCLSENPR | EY1: SCLDEP | EZ1: DEPMAN | FA1: SCLDEPRI | FB1: SCLDEPPR | FC1: SCLANX | FD1: ANXMAN | FE1: SCLANXRI | FF1: SCLANXPR | FG1: SCLCOOS | FH1: COOSMAN | FI1: SCLCOOSRI | FJ1: SCLCOOPR | FK1: SCLPHOB | FL1: PHOBMAN | FM1: SCLPHOBRI | FN1: SCLPHOPR | FO1: SCLPAR | FP1: PARMAN | FQ1: SCLPARRI | FR1: SCLPARPR | FS1: SCLPSY | FT1: PSYMAN | FU1: SCLPSYRI | FV1: SCLPSYPR | FW1: SCLGSI | FY1: SalGen | FZ1: SalOral | GA1: CuSalGen | GB1: CuSalOra | GC1: Dolori | GD1: DoloTemp | GE1: DoloTipo | GF1: DoloProf | GG1: DoloInte | GH1: DolIntMe | GI1: ParaGior | GJ1: ParaSonn | GK1: DifSoci | GL1: DifParl | GM1: DifMors | GN1: DifLavo | GO1: DifBere | GP1: DifRide | GQ1: DifSbadi | GR1: DifBaci
A2: =Anamnesi!D14 -> 0 | B2: =Anamnesi!D15 -> 0 | C2: =Anamnesi!D16 -> 0 | D2: =Anamnesi!D17 -> 0 | E2: =Anamnesi!D18 -> 0 | F2: =Anamnesi!D19 -> 0 | G2: =F2/POWER(E2/100,2) -> #DIV/0! | H2: =Anamnesi!D20 -> 0 | I2: =Anamnesi!D21 -> 0 | J2: =Anamnesi!D23 -> 0 | K2: =Anamnesi!D24 -> 0 | L2: =Anamnesi!D25 -> 0 | M2: =Anamnesi!D27 -> 0 | N2: =Anamnesi!D28 -> 0 | O2: =Anamnesi!D30 -> 0 | P2: =Anamnesi!D31 -> 0 | Q2: =Anamnesi!D32 -> 0 | R2: =Anamnesi!A35 -> 0 | T2: ='TAS-20'!J11 -> 0 | U2: ='TAS-20'!J12 -> 0 | V2: ='TAS-20'!J13 -> 0 | W2: ='TAS-20'!J14 -> 0 | X2: ='TAS-20'!J15 -> 0 | Y2: ='TAS-20'!J16 -> 0 | Z2: ='TAS-20'!J17 -> 0 | AA2: ='TAS-20'!J18 -> 0 | AB2: ='TAS-20'!J19 -> 0 | AC2: ='TAS-20'!J20 -> 0 | AD2: ='TAS-20'!J21 -> 0 | AE2: ='TAS-20'!J22 -> 0 | AF2: ='TAS-20'!J23 -> 0 | AG2: ='TAS-20'!J24 -> 0 | AH2: ='TAS-20'!J25 -> 0 | AI2: ='TAS-20'!J26 -> 0 | AJ2: ='TAS-20'!J27 -> 0 | AK2: ='TAS-20'!J28 -> 0 | AL2: ='TAS-20'!J29 -> 0 | AM2: ='TAS-20'!J30 -> 0 | AO2: =SUM(T2,V2,Y2,Z2,AB2,AF2,AG2) -> 0 | AP2: =IF(T2="",1)+IF(V2="",1)+IF(Y2="",1)+IF(Z2="",1)+IF(AB2="",1)+IF(AF2="",1)+IF(AG2="",1) -> 0 | AQ2: =AO2/(7-AP2)*7 -> 0 | AR2: =SUM(U2,IF(W2>0,6-W2),AD2,AE2,AJ2) -> 0 | AS2: =IF(U2="",1)+IF(W2="",1)+IF(AD2="",1)+IF(AE2="",1)+IF(AJ2="",1) -> 0 | AT2: =AR2/(5-AS2)*5 -> 0 | AU2: =SUM(IF(X2>0,6-X2),AA2,IF(AC2>0,6-AC2),AH2,AI2,IF(AK2>0,6-AK2),IF(AL2>0,6-AL2),AM2) -> 0 | AV2: =IF(X2="",1)+IF(AA2="",1)+IF(AC2="",1)+IF(AH2="",1)+IF(AI2="",1)+IF(AK2="",1)+IF(AL2="",1)+IF(AM2="",1) -> 0 | AW2: =AU2/(8-AV2)*8 -> 0 | AX2: =SUM(AQ2,AT2,AW2) -> 0 | AZ2: ='SCL-90-R'!J11 -> 0 | BA2: ='SCL-90-R'!J12 -> 0 | BB2: ='SCL-90-R'!J13 -> 0 | BC2: ='SCL-90-R'!J14 -> 0 | BD2: ='SCL-90-R'!J15 -> 0 | BE2: ='SCL-90-R'!J16 -> 0 | BF2: ='SCL-90-R'!J17 -> 0 | BG2: ='SCL-90-R'!J18 -> 0 | BH2: ='SCL-90-R'!J19 -> 0 | BI2: ='SCL-90-R'!J20 -> 0 | BJ2: ='SCL-90-R'!J21 -> 0 | BK2: ='SCL-90-R'!J22 -> 0 | BL2: ='SCL-90-R'!J23 -> 0 | BM2: ='SCL-90-R'!J24 -> 0 | BN2: ='SCL-90-R'!J25 -> 0 | BO2: ='SCL-90-R'!J26 -> 0 | BP2: ='SCL-90-R'!J27 -> 0 | BQ2: ='SCL-90-R'!J28 -> 0 | BR2: ='SCL-90-R'!J29 -> 0 | BS2: ='SCL-90-R'!J30 -> 0 | BT2: ='SCL-90-R'!J31 -> 0 | BU2: ='SCL-90-R'!J32 -> 0 | BV2: ='SCL-90-R'!J33 -> 0 | BW2: ='SCL-90-R'!J34 -> 0 | BX2: ='SCL-90-R'!J35 -> 0 | BY2: ='SCL-90-R'!J36 -> 0 | BZ2: ='SCL-90-R'!J37 -> 0 | CA2: ='SCL-90-R'!J38 -> 0 | CB2: ='SCL-90-R'!J39 -> 0 | CC2: ='SCL-90-R'!J40 -> 0 | CD2: ='SCL-90-R'!J41 -> 0 | CE2: ='SCL-90-R'!J42 -> 0 | CF2: ='SCL-90-R'!J43 -> 0 | CG2: ='SCL-90-R'!J44 -> 0 | CH2: ='SCL-90-R'!J45 -> 0 | CI2: ='SCL-90-R'!J46 -> 0 | CJ2: ='SCL-90-R'!J47 -> 0 | CK2: ='SCL-90-R'!J48 -> 0 | CL2: ='SCL-90-R'!J49 -> 0 | CM2: ='SCL-90-R'!J50 -> 0 | CN2: ='SCL-90-R'!J51 -> 0 | CO2: ='SCL-90-R'!J52 -> 0 | CP2: ='SCL-90-R'!J53 -> 0 | CQ2: ='SCL-90-R'!J54 -> 0 | CR2: ='SCL-90-R'!J55 -> 0 | CS2: ='SCL-90-R'!J56 -> 0 | CT2: ='SCL-90-R'!J57 -> 0 | CU2: ='SCL-90-R'!J58 -> 0 | CV2: ='SCL-90-R'!J59 -> 0 | CW2: ='SCL-90-R'!J60 -> 0 | CX2: ='SCL-90-R'!J61 -> 0 | CY2: ='SCL-90-R'!J62 -> 0 | CZ2: ='SCL-90-R'!J63 -> 0 | DA2: ='SCL-90-R'!J64 -> 0 | DB2: ='SCL-90-R'!J65 -> 0 | DC2: ='SCL-90-R'!J66 -> 0 | DD2: ='SCL-90-R'!J67 -> 0 | DE2: ='SCL-90-R'!J68 -> 0 | DF2: ='SCL-90-R'!J69 -> 0 | DG2: ='SCL-90-R'!J70 -> 0 | DH2: ='SCL-90-R'!J71 -> 0 | DI2: ='SCL-90-R'!J72 -> 0 | DJ2: ='SCL-90-R'!J73 -> 0 | DK2: ='SCL-90-R'!J74 -> 0 | DL2: ='SCL-90-R'!J75 -> 0 | DM2: ='SCL-90-R'!J76 -> 0 | DN2: ='SCL-90-R'!J77 -> 0 | DO2: ='SCL-90-R'!J78 -> 0 | DP2: ='SCL-90-R'!J79 -> 0 | DQ2: ='SCL-90-R'!J80 -> 0 | DR2: ='SCL-90-R'!J81 -> 0 | DS2: ='SCL-90-R'!J82 -> 0 | DT2: ='SCL-90-R'!J83 -> 0 | DU2: ='SCL-90-R'!J84 -> 0 | DV2: ='SCL-90-R'!J85 -> 0 | DW2: ='SCL-90-R'!J86 -> 0 | DX2: ='SCL-90-R'!J87 -> 0 | DY2: ='SCL-90-R'!J88 -> 0 | DZ2: ='SCL-90-R'!J89 -> 0 | EA2: ='SCL-90-R'!J90 -> 0 | EB2: ='SCL-90-R'!J91 -> 0 | EC2: ='SCL-90-R'!J92 -> 0 | ED2: ='SCL-90-R'!J93 -> 0 | EE2: ='SCL-90-R'!J94 -> 0 | EF2: ='SCL-90-R'!J95 -> 0 | EG2: ='SCL-90-R'!J96 -> 0 | EH2: ='SCL-90-R'!J97 -> 0 | EI2: ='SCL-90-R'!J98 -> 0 | EJ2: ='SCL-90-R'!J99 -> 0 | EK2: ='SCL-90-R'!J100 -> 0 | EM2: =SUM(AZ2,BC2,BK2,BZ2,CM2,CO2,CU2,CV2,CY2,CZ2,DC2,DE2) -> 0 | EN2: =IF(AZ2="",1)+IF(BC2="",1)+IF(BK2="",1)+IF(BZ2="",1)+IF(CM2="",1)+IF(CO2="",1)+IF(CU2="",1)+IF(CV2="",1)+IF(CY2="",1)+IF(CZ2="",1)+IF(DC2="",1)+IF(DE2="",1) -> 0 | EO2: =EM2/(12-EN2)*12 -> 0 | EP2: =EO2/12 -> 0 | EQ2: =SUM(BB2,BH2,BI2,CA2,CK2,CR2,CS2,CX2,DB2,DL2) -> 0 | ER2: =IF(BB2="",1)+IF(BH2="",1)+IF(BI2="",1)+IF(CA2="",1)+IF(CK2="",1)+IF(CR2="",1)+IF(CS2="",1)+IF(CX2="",1)+IF(DB2="",1)+IF(DL2="",1) -> 0 | ES2: =EQ2/(10-ER2)*10 -> 0 | ET2: =ES2/10 -> 0 | EU2: =SUM(BE2,BT2,CG2,CI2,CJ2,CN2,DH2,DP2,DT2) -> 0 | EV2: =IF(BE2="",1)+IF(BT2="",1)+IF(CG2="",1)+IF(CI2="",1)+IF(CJ2="",1)+IF(CN2="",1)+IF(DH2="",1)+IF(DP2="",1)+IF(DT2="",1) -> 0 | EW2: =EU2/(9-EV2)*9 -> 0 | EX2: =EW2/9 -> 0 | EY2: =SUM(BD2,BM2,BN2,BS2,BU2,BY2,CB2,CC2,CD2,CE2,DA2,DR2,DZ2) -> 0 | EZ2: =IF(BD2="",1)+IF(BM2="",1)+IF(BN2="",1)+IF(BS2="",1)+IF(BU2="",1)+IF(BY2="",1)+IF(CB2="",1)+IF(CC2="",1)+IF(CD2="",1)+IF(CE2="",1)+IF(DA2="",1)+IF(DR2="",1)+IF(DZ2="",1) -> 0 | FA2: =EY2/(13-EZ2)*13 -> 0 | FB2: =FA2/13 -> 0 | FC2: =SUM(BA2,BP2,BV2,CF2,CL2,DD2,DS2,DY2,EA2,EG2) -> 0 | FD2: =IF(BA2="",1)+IF(BP2="",1)+IF(BV2="",1)+IF(CF2="",1)+IF(CL2="",1)+IF(DD2="",1)+IF(DS2="",1)+IF(DY2="",1)+IF(EA2="",1)+IF(EG2="",1) -> 0 | FE2: =FC2/(10-FD2)*10 -> 0 | FF2: =FE2/10 -> 0 | FG2: =SUM(BJ2,BW2,DJ2,DN2,DU2,EB2) -> 0 | FH2: =IF(BJ2="",1)+IF(BW2="",1)+IF(DJ2="",1)+IF(DN2="",1)+IF(DU2="",1)+IF(EB2="",1) -> 0 | FI2: =FG2/(6-FH2)*6 -> 0 | FJ2: =FI2/6 -> 0 | FK2: =SUM(BL2,BX2,CT2,CW2,DQ2,DV2,EC2) -> 0 | FL2: =IF(BL2="",1)+IF(BX2="",1)+IF(CT2="",1)+IF(CW2="",1)+IF(DQ2="",1)+IF(DV2="",1)+IF(EC2="",1) -> 0 | FM2: =FK2/(7-FL2)*7 -> 0 | FN2: =FM2/7 -> 0 | FO2: =SUM(BG2,BQ2,CP2,DO2,DW2,ED2) -> 0 | FP2: =IF(BG2="",1)+IF(BQ2="",1)+IF(CP2="",1)+IF(DO2="",1)+IF(DW2="",1)+IF(ED2="",1) -> 0 | FQ2: =FO2/(6-FP2)*6 -> 0 | FR2: =FQ2/6 -> 0 | FS2: =SUM(BF2,BO2,CH2,DI2,DX2,EE2,EF2,EH2,EI2,EK2) -> 0 | FT2: =IF(BF2="",1)+IF(BO2="",1)+IF(CH2="",1)+IF(DI2="",1)+IF(DX2="",1)+IF(EE2="",1)+IF(EF2="",1)+IF(EH2="",1)+IF(EI2="",1)+IF(EK2="",1) -> 0 | FU2: =FS2/(10-FT2)*10 -> 0 | FV2: =FU2/10 -> 0 | FW2: =AVERAGE(AZ2:EK2) -> 0 | FY2: =Salute!H3 -> 0 | FZ2: =Salute!H4 -> 0 | GA2: =Salute!H6 -> 0 | GB2: =Salute!H7 -> 0 | GC2: =Salute!H13 -> 0 | GD2: =Salute!H17 -> 0 | GE2: =Salute!H19 -> 0 | GF2: =Salute!H23 -> 0 | GG2: =Salute!H27 -> 0 | GH2: =Salute!H31 -> 0 | GI2: =Salute!H35 -> 0 | GJ2: =Salute!H36 -> 0 | GK2: =Salute!H46 -> 0 | GL2: =Salute!H47 -> 0 | GM2: =Salute!H48 -> 0 | GN2: =Salute!H49 -> 0 | GO2: =Salute!H50 -> 0 | GP2: =Salute!H51 -> 0 | GQ2: =Salute!H52 -> 0 | GR2: =Salute!H53 -> 0

Sheet Profilo
A5: Istituto di Scienze Odontostomatologiche & Dipartimento di Psicologia
A7: Profilo Caratteristiche Personali nel Disturbo dell'Articolazione Temporo-Mandibolare
A9: Nome e Cognome | D9: Età | E9: =Dati!C2 -> 0 | G9: Data Questionari
A10: =Dati!A2 -> 0 | D10: Genere | E10: =IF(Dati!D2="m", "Uomo", "Donna") -> Donna | G10: =Dati!B2 -> 0
C12: Dato Individuale | F12: Dato Normativo
A14: TAS-20 | E14: Dati | F14: Dati
A15: Regolazione PsicoBiologica delle Emozioni | E15: Individuali | F15: Normativi
A16: Difficoltà nell'identificare i sentimenti | E16: =Dati!AQ2 -> 0 | F16: ≤ | G16: 20.6
A17: Difficoltà nel descrivere i sentimenti | E17: =Dati!AT2 -> 0 | F17: ≤ | G17: 17.9
A18: Pensiero orientato all'esterno | E18: =Dati!AW2 -> 0 | F18: ≤ | G18: 22
A19: Totale Difficoltà nel Regolare le Emozioni | E19: =SUM(E16:E18) -> 0 | F19: 52-60 livelli moderati
F20: ≥61 alti livelli
A35: SCL-90-R | D35: Dati | E35: Dati Normativi
A36: Dimensioni Psicopatologiche | D36: Individuali | E36: assente | F36: lieve | G36: moderato | H36: conclamato
A37: Somatizzazione | D37: =Dati!EP2 -> 0 | E37: ≤ 1 | F37: da 1 a 2 | G37: da 2 a 3 | H37: ≥ 3
A38: Ossessività-Compulsività | D38: =Dati!ET2 -> 0 | E38: ≤ 1 | F38: da 1 a 2 | G38: da 2 a 3 | H38: ≥ 3
A39: Sentimenti d'Inadeguatezza | D39: =Dati!EX2 -> 0 | E39: ≤ 1 | F39: da 1 a 2 | G39: da 2 a 3 | H39: ≥ 3
A40: Depressione | D40: =Dati!FB2 -> 0 | E40: ≤ 1 | F40: da 1 a 2 | G40: da 2 a 3 | H40: ≥ 3
A41: Ansia | D41: =Dati!FF2 -> 0 | E41: ≤ 1 | F41: da 1 a 2 | G41: da 2 a 3 | H41: ≥ 3
A42: Ostilità (Aggressività) | D42: =Dati!FJ2 -> 0 | E42: ≤ 1 | F42: da 1 a 2 | G42: da 2 a 3 | H42: ≥ 3
A43: Ansia Fobica (Agorafobia) | D43: =Dati!FN2 -> 0 | E43: ≤ 1 | F43: da 1 a 2 | G43: da 2 a 3 | H43: ≥ 3
A44: Paranoia | D44: =Dati!FR2 -> 0 | E44: ≤ 1 | F44: da 1 a 2 | G44: da 2 a 3 | H44: ≥ 3
A45: Psicoticismo | D45: =Dati!FV2 -> 0 | E45: ≤ 1 | F45: da 1 a 2 | G45: da 2 a 3 | H45: ≥ 3
A46: Indice Sintomatologia Generale | D46: =Dati!FW2 -> 0 | E46: ≤ 2 | F46: da 1 a 3 | G46: da 2 a 4 | H46: ≥ 4

Sheet Indice
A1: Indici del MalEssere Psicologico
A2: (da integrare con la valutazione odontoiatrica)
A5: Nome e Cognome | D5: Età | E5: =Dati!C2 -> 0 | G5: Data Questionari
A6: =Dati!A2 -> 0 | D6: Genere | E6: =IF(Dati!D2="m", "Uomo", "Donna") -> Donna | G6: =Dati!B2 -> 0
A9: Fattori Psicologici con MalEssere Presente | F9: Fattori Psicologici con MalEssere Conclamato
A11: EMOZIONI (TAS-20) | F11: EMOZIONI (TAS-20)
A12: Difficoltà nell'identificare i sentimenti | E12: =IF(Dati!AQ2>20.6, "1", "0") -> 0
A13: Difficoltà nel descrivere i sentimenti | E13: =IF(Dati!AT2>17.9, "1", "0") -> 0 | F13: Totale Difficoltà nel Regolare le Emozioni | J13: =IF(Dati!AX2>60, "1", "0") -> 0
A14: Pensiero orientato all' esterno | E14: =IF(Dati!AW2>22, "1", "0") -> 0
A16: SINTOMATOLOGIA (SCL-90-R) | F16: SINTOMATOLOGIA (SCL-90-R)
A17: Somatizzazione | E17: =IF(Dati!EP2>0.99, "1", "0") -> 0 | F17: Somatizzazione | J17: =IF(Dati!EP2>2.99, "1", "0") -> 0
A18: Ossessività-Compulsività | E18: =IF(Dati!ET2>0.99, "1", "0") -> 0 | F18: Ossessività-Compulsività | J18: =IF(Dati!ET2>2.99, "1", "0") -> 0
A19: Sentimenti d'Inadeguatezza | E19: =IF(Dati!EX2>0.99, "1", "0") -> 0 | F19: Sentimenti d'Inadeguatezza | J19: =IF(Dati!EX2>2.99, "1", "0") -> 0
A20: Depressione | E20: =IF(Dati!FB2>0.99, "1", "0") -> 0 | F20: Depressione | J20: =IF(Dati!FB2>2.99, "1", "0") -> 0
A21: Ansia | E21: =IF(Dati!FF2>0.99, "1", "0") -> 0 | F21: Ansia | J21: =IF(Dati!FF2>2.99, "1", "0") -> 0
A22: Ostilità (Aggressività) | E22: =IF(Dati!FJ2>0.99, "1", "0") -> 0 | F22: Ostilità (Aggressività) | J22: =IF(Dati!FJ2>2.99, "1", "0") -> 0
A23: Ansia Fobica (Agorafobia) | E23: =IF(Dati!FN2>0.99, "1", "0") -> 0 | F23: Ansia Fobica (Agorafobia) | J23: =IF(Dati!EU8>2.99, "1", "0") -> 0
A24: Paranoia | E24: =IF(Dati!FR2>0.99, "1", "0") -> 0 | F24: Paranoia | J24: =IF(Dati!FX2>2.99, "1", "0") -> 0
A25: Psicoticismo | E25: =IF(Dati!FV2>0.99, "1", "0") -> 0 | F25: Psicoticismo | J25: =IF(Dati!FV2>2.99, "1", "0") -> 0
D27: Legenda: | E27: 1= si | F27: 0 = no
A31: Indice Globale del MalEssere Psicologico
A32: Assente | D32: =12-D33-D34 -> 12 | E32: numero fattori
A33: Presente lieve/moderato | D33: =(E17+E18+E19+E20+E21+E22+E23+E24+E25)-(J17+J18+J19+J20+J21+J22+J23+J24+J25)+IF(J13="1", "0", E12+E13+E14) -> 0 | E33: numero fattori
A34: Presente conclamato | D34: =J17+J18+J19+J20+J21+J22+J23+J24+J25+IF(J13="1", "3", "0") -> 0 | E34: numero fattori
